BEGIN:VCALENDAR
VERSION:2.0
PRODID:-//Philippine Community Council of NSW Inc. - ECPv6.15.17.1//NONSGML v1.0//EN
CALSCALE:GREGORIAN
METHOD:PUBLISH
X-WR-CALNAME:Philippine Community Council of NSW Inc.
X-ORIGINAL-URL:https://www.pccnsw.org.au
X-WR-CALDESC:Events for Philippine Community Council of NSW Inc.
REFRESH-INTERVAL;VALUE=DURATION:PT1H
X-Robots-Tag:noindex
X-PUBLISHED-TTL:PT1H
BEGIN:VTIMEZONE
TZID:UTC
BEGIN:STANDARD
TZOFFSETFROM:+0000
TZOFFSETTO:+0000
TZNAME:UTC
DTSTART:20250101T000000
END:STANDARD
END:VTIMEZONE
BEGIN:VEVENT
DTSTART;TZID=UTC:20260419T140000
DTEND;TZID=UTC:20260419T170000
DTSTAMP:20260419T150041
CREATED:20260214T071522Z
LAST-MODIFIED:20260214T071522Z
UID:535-1776607200-1776618000@www.pccnsw.org.au
SUMMARY:2026 Rigodon de Honor Rehearsal
DESCRIPTION:2026 Rigodon de Honor Rehearsal
URL:https://www.pccnsw.org.au/event/2026-rigodon-de-honor-rehearsal-2/
CATEGORIES:PCCNSW Event
END:VEVENT
END:VCALENDAR